BEGIN:VCALENDAR
VERSION:2.0
PRODID:-//eventon.com NONSGML v1.0//EN
CALSCALE:GREGORIAN
METHOD:PUBLISH
BEGIN:VEVENT
UID:69e64379e6ba1
DTSTAMP:20260420T151713Z
DTSTART:20260420T070000Z
DTEND:20260425T160000Z
LOCATION:Wohnwagen Winkler GmbH Turbinenstraße 2-6\,  Weilimdorf\,  Deutschland
SUMMARY:Frühlings-Aktionswoche bei Winkler
DESCRIPTION:Wollen Sie noch diesen Sommer auf Achse? ☀️ Kurzfristig ver
 fügbare Fahrzeuge zu Aktionspreisen! Schnüren Sie sich selbst Ihr Ausstat
 tungspaket zum Sonderpreis. Am 20. bis 25. April 2026 lädt das Team Montag
  bis Freitag von 9-18 Uhr  und Samstag von 9 bis 7 Uhr zu unseren Aktionst
 agen ein. Der Eintritt ist[..]\nhttps://www.forster-reisemobile.de/veransta
 ltungen/fruehlings-aktionswoche-bei-winkler/
URL:https://www.forster-reisemobile.de/veranstaltungen/fruehlings-aktionswoche-bei-winkler/
END:VEVENT
END:VCALENDAR